BEGIN:VCALENDAR
VERSION:2.0
PRODID:-//SVP Uster //NONSGML Events //EN
CALSCALE:GREGORIAN
X-WR-CALNAME:SVP Uster
BEGIN:VEVENT
CREATED:20220903T181546Z
UID:3970
DTEND:20220925T000000
DTSTART:20220925T000000
DTSTAMP:20260422T220852Z
LOCATION:
DESCRIPTION:
SUMMARY:Eidgenössische Abstimmungen vom 25. September 2022
ORGANIZER:
URL;VALUE=URI:https://www.svp-uster.ch/termine/eidgenoessische-abstimmung-vom-25-september-2022/
TRANSP:OPAQUE
END:VEVENT
END:VCALENDAR
