BEGIN:VCALENDAR
VERSION:2.0
PRODID:-//SVP Uster //NONSGML Events //EN
CALSCALE:GREGORIAN
X-WR-CALNAME:SVP Uster
BEGIN:VEVENT
CREATED:20220519T131437Z
UID:3906
DTEND:20221212T200000
DTSTART:20221212T190000
DTSTAMP:20260425T213433Z
LOCATION:
DESCRIPTION:
SUMMARY:Gemeinderatssitzung
ORGANIZER:
URL;VALUE=URI:https://www.svp-uster.ch/termine/gemeinderatssitzung-10/
TRANSP:OPAQUE
END:VEVENT
END:VCALENDAR
