BEGIN:VCALENDAR
VERSION:2.0
PRODID:-//SVP Uster //NONSGML Events //EN
CALSCALE:GREGORIAN
X-WR-CALNAME:SVP Uster
BEGIN:VEVENT
CREATED:20220110T103121Z
UID:3117
DTEND:20220319T120000
DTSTART:20220319T100000
DTSTAMP:20260420T023340Z
LOCATION:Werrikon\, Gschwader
DESCRIPTION:
SUMMARY:«Kandidaten bi dä Lüüt»
ORGANIZER:
URL;VALUE=URI:https://www.svp-uster.ch/termine/kandidaten-bi-dae-lueuet-8/
TRANSP:OPAQUE
END:VEVENT
END:VCALENDAR
