BEGIN:VCALENDAR
VERSION:2.0
PRODID:-//SVP Uster //NONSGML Events //EN
CALSCALE:GREGORIAN
X-WR-CALNAME:SVP Uster
BEGIN:VEVENT
CREATED:20201209T094700Z
UID:2307
DTEND:20210326T200000
DTSTART:20210326T193000
DTSTAMP:20260421T085206Z
LOCATION:
DESCRIPTION:Lokalität noch offen, Niederglatt.
SUMMARY:Bezirk Dielsdorf / Niederglatt: Generalversammlung
ORGANIZER:
URL;VALUE=URI:https://www.svp-uster.ch/termine/bezirk-dielsdorf-niederglatt-generalversammlung/
TRANSP:OPAQUE
END:VEVENT
END:VCALENDAR
